BEGIN:VCALENDAR
VERSION:2.0
PRODID:-//My Calendar//http://www.joedolson.com//v3.1.1//EN
METHOD:PUBLISH
CALSCALE:GREGORIAN
X-WR-CALNAME:京都で新車･中古バイクを買うならレオタニモト
X-PUBLISHED-TTL:PT24H
REFRESH-INTERVAL;VALUE=DURATION:PT24H
X-WR-CALDESC:Events from 京都で新車･中古バイクを買うならレオタニモト
BEGIN:VEVENT
UID:22-17
LOCATION:
SUMMARY:林道ツーリング
DTSTAMP:20171008T000000
ORGANIZER;CN=leotanimto:MAILTO:t-shimizu@leotanimoto.co.jp
DTSTART;TZID=Asia/Tokyo:20171008T000000
DTEND;TZID=Asia/Tokyo:20171009T000000
URL;VALUE=URI:https://www.leotanimoto.co.jp/my-calendar/
DESCRIPTION: 
CATEGORIES:General, General
X-FUNAMBOL-ALLDAY: 1
X-MICROSOFT-CDO-ALLDAYEVENT: TRUE

END:VEVENT
BEGIN:VEVENT
UID:20-16
LOCATION:
SUMMARY:401走行会
DTSTAMP:20170927T000000
ORGANIZER;CN=leotanimto:MAILTO:t-shimizu@leotanimoto.co.jp
DTSTART;TZID=Asia/Tokyo:20170927T000000
DTEND;TZID=Asia/Tokyo:20170928T000000
URL;VALUE=URI:https://www.leotanimoto.co.jp/my-calendar/
DESCRIPTION:Kawasaki401会ミーティングを開催致します。開催場所：岡山国際サーキット申込締切：2017年9月17日（日）まで 
CATEGORIES:General, General
X-FUNAMBOL-ALLDAY: 1
X-MICROSOFT-CDO-ALLDAYEVENT: TRUE

END:VEVENT
BEGIN:VEVENT
UID:19-15
LOCATION:
SUMMARY:全店臨時休業
DTSTAMP:20170920T000000
ORGANIZER;CN=leotanimto:MAILTO:t-shimizu@leotanimoto.co.jp
DTSTART;TZID=Asia/Tokyo:20170920T000000
DTEND;TZID=Asia/Tokyo:20170921T000000
URL;VALUE=URI:https://www.leotanimoto.co.jp/my-calendar/
DESCRIPTION:社員研修のため全店臨時休業とさせて頂きます。お客様にはご迷惑をお掛けしますが、ご協力をお願い致します。 
CATEGORIES:General, General
X-FUNAMBOL-ALLDAY: 1
X-MICROSOFT-CDO-ALLDAYEVENT: TRUE

END:VEVENT
BEGIN:VEVENT
UID:14-13
LOCATION:
SUMMARY:デモライド京都
DTSTAMP:20170903T100000
ORGANIZER;CN=leotanimto:MAILTO:t-shimizu@leotanimoto.co.jp
DTSTART;TZID=Asia/Tokyo:20170903T100000
DTEND;TZID=Asia/Tokyo:20170903T170000
URL;VALUE=URI:https://www.leotanimoto.co.jp/my-calendar/
DESCRIPTION: 
CATEGORIES:General, General
END:VEVENT
BEGIN:VEVENT
UID:18-14
LOCATION:
SUMMARY:デモライド京都
DTSTAMP:20170902T100000
ORGANIZER;CN=leotanimto:MAILTO:t-shimizu@leotanimoto.co.jp
DTSTART;TZID=Asia/Tokyo:20170902T100000
DTEND;TZID=Asia/Tokyo:20170902T170000
URL;VALUE=URI:https://www.leotanimoto.co.jp/my-calendar/
DESCRIPTION: 
CATEGORIES:General, General
END:VEVENT
BEGIN:VEVENT
UID:13-12
LOCATION:
SUMMARY:夏季休暇
DTSTAMP:20170813T000000
ORGANIZER;CN=leotanimto:MAILTO:t-shimizu@leotanimoto.co.jp
DTSTART;TZID=Asia/Tokyo:20170813T000000
DTEND;TZID=Asia/Tokyo:20170817T000000
URL;VALUE=URI:https://www.leotanimoto.co.jp/my-calendar/
DESCRIPTION:【西院エリア】休まず営業西院SR・西院SF・用品館レオナ※8月15日（火）は通常通り定休日となります。【HONDAドリーム京都東】休まず営業※8月16日（水）、17日（木）は通常通り定休日となります。【レオ洛西店中古車センター】8月13日（日）～8月17日（木）【レオカワサキ店】8月13日（日）～8月17日（木）【USAレオ店】8月13日（日）～8月16日（水）期間中ご迷惑をおかけいたしますが、よろしくお願い致します。 
CATEGORIES:General, General
X-FUNAMBOL-ALLDAY: 1
X-MICROSOFT-CDO-ALLDAYEVENT: TRUE

END:VEVENT
BEGIN:VEVENT
UID:12-11
LOCATION:
SUMMARY:年末年始休暇
DTSTAMP:20171229T000000
ORGANIZER;CN=makiura2000:MAILTO:makiura@seiga.cc
DTSTART;TZID=Asia/Tokyo:20171229T000000
DTEND;TZID=Asia/Tokyo:20180105T000000
URL;VALUE=URI:https://www.leotanimoto.co.jp/my-calendar/
DESCRIPTION: 
CATEGORIES:General, General
X-FUNAMBOL-ALLDAY: 1
X-MICROSOFT-CDO-ALLDAYEVENT: TRUE

END:VEVENT
BEGIN:VEVENT
UID:21-10
LOCATION:
SUMMARY:レオカップＥＤ
DTSTAMP:20171112T000000
ORGANIZER;CN=makiura2000:MAILTO:makiura@seiga.cc
DTSTART;TZID=Asia/Tokyo:20171112T000000
DTEND;TZID=Asia/Tokyo:20171113T000000
URL;VALUE=URI:https://www.leotanimoto.co.jp/my-calendar/
DESCRIPTION: 
CATEGORIES:General, General
X-FUNAMBOL-ALLDAY: 1
X-MICROSOFT-CDO-ALLDAYEVENT: TRUE

END:VEVENT
BEGIN:VEVENT
UID:23-9
LOCATION:
SUMMARY:ドリームツーリング
DTSTAMP:20171029T000000
ORGANIZER;CN=makiura2000:MAILTO:makiura@seiga.cc
DTSTART;TZID=Asia/Tokyo:20171029T000000
DTEND;TZID=Asia/Tokyo:20171030T000000
URL;VALUE=URI:https://www.leotanimoto.co.jp/my-calendar/
DESCRIPTION: 
CATEGORIES:General, General
X-FUNAMBOL-ALLDAY: 1
X-MICROSOFT-CDO-ALLDAYEVENT: TRUE

END:VEVENT
BEGIN:VEVENT
UID:9-8
LOCATION:
SUMMARY:宿泊ツーリング
DTSTAMP:20171021T000000
ORGANIZER;CN=makiura2000:MAILTO:makiura@seiga.cc
DTSTART;TZID=Asia/Tokyo:20171021T000000
DTEND;TZID=Asia/Tokyo:20171023T000000
URL;VALUE=URI:https://www.leotanimoto.co.jp/my-calendar/
DESCRIPTION: 
CATEGORIES:General, General
X-FUNAMBOL-ALLDAY: 1
X-MICROSOFT-CDO-ALLDAYEVENT: TRUE

END:VEVENT
BEGIN:VEVENT
UID:7-6
LOCATION:
SUMMARY:ドリーム８耐キャンプ
DTSTAMP:20170730T000000
ORGANIZER;CN=makiura2000:MAILTO:makiura@seiga.cc
DTSTART;TZID=Asia/Tokyo:20170730T000000
DTEND;TZID=Asia/Tokyo:20170731T000000
URL;VALUE=URI:https://www.leotanimoto.co.jp/my-calendar/
DESCRIPTION: 
CATEGORIES:General, General
X-FUNAMBOL-ALLDAY: 1
X-MICROSOFT-CDO-ALLDAYEVENT: TRUE

END:VEVENT
BEGIN:VEVENT
UID:8-7
LOCATION:
SUMMARY:ドリーム８耐キャンプ
DTSTAMP:20170729T000000
ORGANIZER;CN=makiura2000:MAILTO:makiura@seiga.cc
DTSTART;TZID=Asia/Tokyo:20170729T000000
DTEND;TZID=Asia/Tokyo:20170730T000000
URL;VALUE=URI:https://www.leotanimoto.co.jp/my-calendar/
DESCRIPTION: 
CATEGORIES:General, General
X-FUNAMBOL-ALLDAY: 1
X-MICROSOFT-CDO-ALLDAYEVENT: TRUE

END:VEVENT
BEGIN:VEVENT
UID:6-5
LOCATION:
SUMMARY:林道ツーリング
DTSTAMP:20170827T000000
ORGANIZER;CN=松原:MAILTO:maba@netaid.or.jp
DTSTART;TZID=Asia/Tokyo:20170827T000000
DTEND;TZID=Asia/Tokyo:20170828T000000
URL;VALUE=URI:https://www.leotanimoto.co.jp/my-calendar/
DESCRIPTION: 
CATEGORIES:General, General
X-FUNAMBOL-ALLDAY: 1
X-MICROSOFT-CDO-ALLDAYEVENT: TRUE

END:VEVENT
BEGIN:VEVENT
UID:3-3
LOCATION:
SUMMARY:日帰りツーリング
DTSTAMP:20170827T000000
ORGANIZER;CN=makiura2000:MAILTO:makiura@seiga.cc
DTSTART;TZID=Asia/Tokyo:20170827T000000
DTEND;TZID=Asia/Tokyo:20170828T000000
URL;VALUE=URI:https://www.leotanimoto.co.jp/my-calendar/
DESCRIPTION: 
CATEGORIES:General, General
X-FUNAMBOL-ALLDAY: 1
X-MICROSOFT-CDO-ALLDAYEVENT: TRUE

END:VEVENT
BEGIN:VEVENT
UID:1-1
LOCATION:
SUMMARY:レディースツーリング
DTSTAMP:20170423T000000
ORGANIZER;CN=makiura2000:MAILTO:makiura@seiga.cc
DTSTART;TZID=Asia/Tokyo:20170423T000000
DTEND;TZID=Asia/Tokyo:20170424T000000
URL;VALUE=URI:https://www.leotanimoto.co.jp/my-calendar/
DESCRIPTION: 
CATEGORIES:General, General
X-FUNAMBOL-ALLDAY: 1
X-MICROSOFT-CDO-ALLDAYEVENT: TRUE

END:VEVENT
END:VCALENDAR